BEGIN:VCALENDAR
VERSION:2.0
PRODID:-//ExpressionEngine Easy iCalendar plugin//NONSGML v2.0.0//EN
X-WR-TIMEZONE:America/Chicago
X-WR-CALNAME:Upcoming Auctions
BEGIN:VEVENT
UID:46674
DTSTAMP:20200130T120000
DTSTART:20200130T120000
DTEND:20200205T120000
SUMMARY:`17 Ford Focus\, Furniture\, Collectibles\, Household
LOCATION:2545 Finger Road\, Green Bay\, WI 54302\, US
DESCRIPTION:Furniture\, Household\, 2017 Ford Focus\, Collectibles - 2/5
URL:https://www.massartauctioneers.com/auctions/detail/bw46674
SEQUENCE:1
END:VEVENT
END:VCALENDAR