BEGIN:VCALENDAR
VERSION:2.0
PRODID:-//ExpressionEngine Easy iCalendar plugin//NONSGML v2.0.0//EN
X-WR-TIMEZONE:America/Chicago
X-WR-CALNAME:Upcoming Auctions
BEGIN:VEVENT
UID:47912
DTSTAMP:20200305T093000
DTSTART:20200305T093000
DTEND:20200316T120000
SUMMARY:Furniture\, Collectibles\, Household-3320 Capri Ct
LOCATION:3320 Capri Ct\, Green Bay\, WI 54301\, US
DESCRIPTION:Furniture\, Collectibles\, Household - Capri Ct
URL:https://www.massartauctioneers.com/auctions/detail/bw47912
SEQUENCE:1
END:VEVENT
END:VCALENDAR