BEGIN:VCALENDAR
VERSION:2.0
PRODID:-//ExpressionEngine Easy iCalendar plugin//NONSGML v2.0.0//EN
X-WR-TIMEZONE:America/Chicago
X-WR-CALNAME:Upcoming Auctions
BEGIN:VEVENT
UID:74039
DTSTAMP:20211222T090000
DTSTART:20211222T090000
DTEND:20220107T120000
SUMMARY:Microtel Inn & Suites Online Auction
LOCATION:3031 Allied St\, Green Bay\, WI 54304\, US
DESCRIPTION:Microtel Inn & Suites Online Auction
URL:https://www.massartauctioneers.com/auctions/detail/bw74039
SEQUENCE:1
END:VEVENT
END:VCALENDAR