BEGIN:VCALENDAR
VERSION:2.0
PRODID:-//ExpressionEngine Easy iCalendar plugin//NONSGML v2.0.1//EN
X-WR-TIMEZONE:America/Chicago
X-WR-CALNAME:Upcoming Auctions
BEGIN:VEVENT
UID:74788
DTSTAMP:20220112T120000
DTSTART:20220112T120000
DTEND:20220118T120000
SUMMARY:Furniture\, collectibles\, coins\, household-Main building fron
 t half
LOCATION:2545 Finger Road\, Green Bay\, WI 54302\, US
DESCRIPTION:Furniture\, Collectibles\, Redlin prints\, Household - 1/18
URL:https://www.massartauctioneers.com/auctions/detail/bw74788
SEQUENCE:1
END:VEVENT
END:VCALENDAR